BEGIN:VCALENDAR
VERSION:2.0
PRODID:-//St. Maria Goldberg - ECPv4.9.14//NONSGML v1.0//EN
CALSCALE:GREGORIAN
METHOD:PUBLISH
X-WR-CALNAME:St. Maria Goldberg
X-ORIGINAL-URL:https://st.maria-goldberg.de
X-WR-CALDESC:Veranstaltungen für St. Maria Goldberg
BEGIN:VTIMEZONE
TZID:Europe/Berlin
BEGIN:DAYLIGHT
TZOFFSETFROM:+0100
TZOFFSETTO:+0200
TZNAME:CEST
DTSTART:20260329T010000
END:DAYLIGHT
BEGIN:STANDARD
TZOFFSETFROM:+0200
TZOFFSETTO:+0100
TZNAME:CET
DTSTART:20261025T010000
END:STANDARD
END:VTIMEZONE
BEGIN:VEVENT
DTSTART;TZID=Europe/Berlin:20260426T093000
DTEND;TZID=Europe/Berlin:20260426T103000
DTSTAMP:20260424T015439
CREATED:20260111T174345Z
LAST-MODIFIED:20260111T174345Z
UID:25476-1777195800-1777199400@st.maria-goldberg.de
SUMMARY:Sonntagsgottesdienst im April in St. Maria
DESCRIPTION:🗓 Sonntag\, 26.04.2026 | 9:30 Uhr \nAm 26. April laden wir herzlich zum Sonntagsgottesdienst um 9:30 Uhr in St. Maria ein. Der Samstagabend-Gottesdienst entfällt an diesem Wochenende.\nDer frühe Zeitpunkt ermöglicht einen bewussten Start in den Sonntag – auch für Familien und Frühaufstehende. \n
URL:https://st.maria-goldberg.de/veranstaltung/sonntagsgottesdienst-im-april-in-st-maria/
CATEGORIES:Gottesdienst
ATTACH;FMTTYPE=image/jpeg:https://st.maria-goldberg.de/wp-content/uploads/2021/01/poor.jpg
END:VEVENT
END:VCALENDAR