BEGIN:VCALENDAR
VERSION:2.0
PRODID:-//St. Maria Goldberg - ECPv4.9.14//NONSGML v1.0//EN
CALSCALE:GREGORIAN
METHOD:PUBLISH
X-WR-CALNAME:St. Maria Goldberg
X-ORIGINAL-URL:https://st.maria-goldberg.de
X-WR-CALDESC:Veranstaltungen für St. Maria Goldberg
BEGIN:VTIMEZONE
TZID:Europe/Berlin
BEGIN:DAYLIGHT
TZOFFSETFROM:+0100
TZOFFSETTO:+0200
TZNAME:CEST
DTSTART:20250330T010000
END:DAYLIGHT
BEGIN:STANDARD
TZOFFSETFROM:+0200
TZOFFSETTO:+0100
TZNAME:CET
DTSTART:20251026T010000
END:STANDARD
END:VTIMEZONE
BEGIN:VEVENT
DTSTART;TZID=Europe/Berlin:20250508T193000
DTEND;TZID=Europe/Berlin:20250807T213000
DTSTAMP:20260419T133244
CREATED:20250129T102449Z
LAST-MODIFIED:20250421T134724Z
UID:24945-1746732600-1754602200@st.maria-goldberg.de
SUMMARY:Bibelabende
DESCRIPTION:Lauschen mit der Seele: Biblische Erzählungen und Selbsterfahrung \nOffener Treffpunkt zum Innehalten\, Nachdenken und Austauschen \nWomit beschäftigen  wir uns? Wir lesen unterschiedliche Texte aus der Bibel. Wir arbeiten mit vielfältigen\, kreativen  Methoden und spüren dem Wort nach\, das uns leben lässt. \nBitte bringen Sie eine eigene Bibel mit. Das Angebot ist kostenfrei. \nWann:  Immer am 2. Donnerstag eines Monats von 19:30 Uhr bis 21:30 Uhr Termine: 08.05. / 12. 06./ 10.07.25 \nWo:  in Sindelfingen \nLeitung:  Ingrid Wedl\, Pastoralreferentin i.R. und geistige Begleiterin \nFragen bitte an Ingrid Wedl:  Tel. 07031/81 20 86 \n
URL:https://st.maria-goldberg.de/veranstaltung/bibelabende/
CATEGORIES:Kirchengemeinderat (KGR),Veranstaltungen
ATTACH;FMTTYPE=image/jpeg:https://st.maria-goldberg.de/wp-content/uploads/2017/05/lektüreempfehlungen.jpg
END:VEVENT
END:VCALENDAR