BEGIN:VCALENDAR
VERSION:2.0
PRODID:-//St. Maria Goldberg - ECPv4.9.14//NONSGML v1.0//EN
CALSCALE:GREGORIAN
METHOD:PUBLISH
X-WR-CALNAME:St. Maria Goldberg
X-ORIGINAL-URL:https://st.maria-goldberg.de
X-WR-CALDESC:Veranstaltungen für St. Maria Goldberg
BEGIN:VTIMEZONE
TZID:Europe/Berlin
BEGIN:DAYLIGHT
TZOFFSETFROM:+0100
TZOFFSETTO:+0200
TZNAME:CEST
DTSTART:20240331T010000
END:DAYLIGHT
BEGIN:STANDARD
TZOFFSETFROM:+0200
TZOFFSETTO:+0100
TZNAME:CET
DTSTART:20241027T010000
END:STANDARD
END:VTIMEZONE
BEGIN:VEVENT
DTSTART;TZID=Europe/Berlin:20240323T100000
DTEND;TZID=Europe/Berlin:20240323T130000
DTSTAMP:20260419T150803
CREATED:20240211T214326Z
LAST-MODIFIED:20240211T214405Z
UID:24713-1711188000-1711198800@st.maria-goldberg.de
SUMMARY:Kindersachenflohmarkt
DESCRIPTION:Am Samstag\, den 23. März 2024 veranstaltet der Bürgerverein zwischen 10 und 13 Uhr den ersten Kindersachenflohmarkt auf dem Goldberg. Parallel dazu macht der Förderverein KiTa Goldberg einen großen Kuchenverkauf.\n\nVeranstaltungsort ist der große Saal im Gemeindehaus von St Maria auf dem Goldberg in der Goldbergstraße 26.\n\nWir freuen uns auf Euch.\n\n\n
URL:https://st.maria-goldberg.de/veranstaltung/24713/
LOCATION:Gemeindehaus der Katholische Kirchengemeinde St. Maria\, Goldbergstraße 26\, 71065 Sindelfingen\, Deutschland
CATEGORIES:Kirchengemeinderat (KGR),Veranstaltungen
ATTACH;FMTTYPE=image/jpeg:https://st.maria-goldberg.de/wp-content/uploads/2021/05/computer-627220_1920.jpg
END:VEVENT
END:VCALENDAR